Package: SANTA Version: 2.42.0 Command: rm -rf SANTA.buildbin-libdir && mkdir SANTA.buildbin-libdir && /Users/biocbuild/BBS/utils/build-universal.sh SANTA_2.42.0.tar.gz /Library/Frameworks/R.framework/Resources/bin/R SANTA.buildbin-libdir StartedAt: 2025-02-05 17:36:59 -0500 (Wed, 05 Feb 2025) EndedAt: 2025-02-05 17:37:10 -0500 (Wed, 05 Feb 2025) EllapsedTime: 10.3 seconds RetCode: 0 Status: OK PackageFile: SANTA_2.42.0.tgz PackageFileSize: 4.133 MiB