Package: SAIGEgds Version: 2.6.0 Command: F:\biocbuild\bbs-3.20-bioc\R\bin\R.exe CMD INSTALL SAIGEgds StartedAt: 2025-02-03 16:15:36 -0500 (Mon, 03 Feb 2025) EndedAt: 2025-02-03 16:17:02 -0500 (Mon, 03 Feb 2025) EllapsedTime: 85.4 seconds RetCode: 0 Status: OK