Package: SAIGEgds Version: 2.6.0 Command: rm -rf SAIGEgds.buildbin-libdir && mkdir SAIGEgds.buildbin-libdir && F:\biocbuild\bbs-3.20-bioc\R\bin\R.exe CMD INSTALL --build --library=SAIGEgds.buildbin-libdir SAIGEgds_2.6.0.tar.gz StartedAt: 2025-02-04 09:25:27 -0500 (Tue, 04 Feb 2025) EndedAt: 2025-02-04 09:26:54 -0500 (Tue, 04 Feb 2025) EllapsedTime: 86.6 seconds RetCode: 0 Status: OK PackageFile: SAIGEgds_2.6.0.zip PackageFileSize: 2.545 MiB