Package: SAIGEgds Version: 2.6.0 Command: /home/biocbuild/bbs-3.20-bioc/R/bin/R CMD INSTALL SAIGEgds StartedAt: 2025-02-03 15:59:23 -0500 (Mon, 03 Feb 2025) EndedAt: 2025-02-03 16:00:36 -0500 (Mon, 03 Feb 2025) EllapsedTime: 73.4 seconds RetCode: 0 Status: OK