Package: SAIGEgds Version: 2.6.0 Command: /home/biocbuild/bbs-3.20-bioc/R/bin/R CMD build --keep-empty-dirs --no-resave-data --md5 SAIGEgds StartedAt: 2025-02-03 19:06:49 -0500 (Mon, 03 Feb 2025) EndedAt: 2025-02-03 19:08:09 -0500 (Mon, 03 Feb 2025) EllapsedTime: 80.2 seconds RetCode: 0 Status: OK PackageFile: SAIGEgds_2.6.0.tar.gz PackageFileSize: 1.977 MiB