Package: SAIGEgds Version: 2.6.0 Command: /home/biocbuild/R/R/bin/R CMD INSTALL SAIGEgds StartedAt: 2024-11-19 21:21:18 -0000 (Tue, 19 Nov 2024) EndedAt: 2024-11-19 21:23:10 -0000 (Tue, 19 Nov 2024) EllapsedTime: 112.2 seconds RetCode: 0 Status: OK