Package: S4Vectors Version: 0.44.0 Command: F:\biocbuild\bbs-3.20-bioc\R\bin\R.exe CMD check --no-multiarch --install=check:S4Vectors.install-out.txt --library=F:\biocbuild\bbs-3.20-bioc\R\library --no-vignettes --timings S4Vectors_0.44.0.tar.gz StartedAt: 2025-01-28 05:31:17 -0500 (Tue, 28 Jan 2025) EndedAt: 2025-01-28 05:33:27 -0500 (Tue, 28 Jan 2025) EllapsedTime: 130.0 seconds RetCode: 0 Status: WARNINGS CheckDir: S4Vectors.Rcheck Warnings: 3