Package: S4Vectors Version: 0.44.0 Command: chmod a+r S4Vectors -R && F:\biocbuild\bbs-3.20-bioc\R\bin\R.exe CMD build --keep-empty-dirs --no-resave-data S4Vectors StartedAt: 2025-03-31 21:37:47 -0400 (Mon, 31 Mar 2025) EndedAt: 2025-03-31 21:41:16 -0400 (Mon, 31 Mar 2025) EllapsedTime: 208.9 seconds RetCode: 0 Status: OK PackageFile: S4Vectors_0.44.0.tar.gz PackageFileSize: 856.7 KiB