Package: S4Arrays Version: 1.6.0 Command: /home/biocbuild/R/R/bin/R CMD build --keep-empty-dirs --no-resave-data S4Arrays StartedAt: 2025-02-04 02:31:56 -0000 (Tue, 04 Feb 2025) EndedAt: 2025-02-04 02:32:25 -0000 (Tue, 04 Feb 2025) EllapsedTime: 29.1 seconds RetCode: 0 Status: OK PackageFile: S4Arrays_1.6.0.tar.gz PackageFileSize: 303.8 KiB