Package: Rvisdiff Version: 1.4.0 Command: /Library/Frameworks/R.framework/Resources/bin/R CMD build --keep-empty-dirs --no-resave-data Rvisdiff StartedAt: 2025-01-30 22:27:13 -0500 (Thu, 30 Jan 2025) EndedAt: 2025-01-30 22:29:38 -0500 (Thu, 30 Jan 2025) EllapsedTime: 144.5 seconds RetCode: 0 Status: OK PackageFile: Rvisdiff_1.4.0.tar.gz PackageFileSize: 1.314 MiB