Package: Rtreemix Version: 1.68.0 Command: /home/biocbuild/R/R/bin/R CMD INSTALL Rtreemix StartedAt: 2025-01-27 21:36:43 -0000 (Mon, 27 Jan 2025) EndedAt: 2025-01-27 21:37:54 -0000 (Mon, 27 Jan 2025) EllapsedTime: 71.2 seconds RetCode: 0 Status: OK