Package: Rtreemix Version: 1.68.0 Command: /Library/Frameworks/R.framework/Resources/bin/R CMD INSTALL Rtreemix StartedAt: 2025-03-31 15:53:41 -0400 (Mon, 31 Mar 2025) EndedAt: 2025-03-31 15:55:33 -0400 (Mon, 31 Mar 2025) EllapsedTime: 112.4 seconds RetCode: 0 Status: OK