Package: Rtpca Version: 1.16.0 Command: /home/biocbuild/R/R/bin/R CMD INSTALL Rtpca StartedAt: 2025-02-03 20:28:39 -0000 (Mon, 03 Feb 2025) EndedAt: 2025-02-03 20:28:51 -0000 (Mon, 03 Feb 2025) EllapsedTime: 11.9 seconds RetCode: 0 Status: OK