Package: Rtpca Version: 1.16.0 Command: rm -rf Rtpca.buildbin-libdir && mkdir Rtpca.buildbin-libdir && /Users/biocbuild/BBS/utils/build-universal.sh Rtpca_1.16.0.tar.gz /Library/Frameworks/R.framework/Resources/bin/R Rtpca.buildbin-libdir StartedAt: 2025-01-28 14:26:51 -0500 (Tue, 28 Jan 2025) EndedAt: 2025-01-28 14:27:14 -0500 (Tue, 28 Jan 2025) EllapsedTime: 23.2 seconds RetCode: 0 Status: OK PackageFile: Rtpca_1.16.0.tgz PackageFileSize: 2.382 MiB