Package: Rsubread Version: 2.20.0 Command: /home/biocbuild/R/R/bin/R CMD build --keep-empty-dirs --no-resave-data Rsubread StartedAt: 2025-02-04 02:28:06 -0000 (Tue, 04 Feb 2025) EndedAt: 2025-02-04 02:30:57 -0000 (Tue, 04 Feb 2025) EllapsedTime: 171.2 seconds RetCode: 0 Status: OK PackageFile: Rsubread_2.20.0.tar.gz PackageFileSize: 12.92 MiB