Package: Rsubread Version: 2.20.0 Command: F:\biocbuild\bbs-3.20-bioc\R\bin\R.exe CMD INSTALL Rsubread StartedAt: 2025-01-27 15:27:00 -0500 (Mon, 27 Jan 2025) EndedAt: 2025-01-27 15:28:21 -0500 (Mon, 27 Jan 2025) EllapsedTime: 80.7 seconds RetCode: 0 Status: OK