Package: Rsubread Version: 2.20.0 Command: chmod a+r Rsubread -R && F:\biocbuild\bbs-3.20-bioc\R\bin\R.exe CMD build --keep-empty-dirs --no-resave-data Rsubread StartedAt: 2025-01-27 21:36:58 -0500 (Mon, 27 Jan 2025) EndedAt: 2025-01-27 21:40:03 -0500 (Mon, 27 Jan 2025) EllapsedTime: 185.2 seconds RetCode: 0 Status: OK PackageFile: Rsubread_2.20.0.tar.gz PackageFileSize: 12.81 MiB