Package: Rsubread Version: 2.20.0 Command: rm -rf Rsubread.buildbin-libdir && mkdir Rsubread.buildbin-libdir && F:\biocbuild\bbs-3.20-bioc\R\bin\R.exe CMD INSTALL --build --library=Rsubread.buildbin-libdir Rsubread_2.20.0.tar.gz StartedAt: 2025-01-28 09:01:49 -0500 (Tue, 28 Jan 2025) EndedAt: 2025-01-28 09:03:33 -0500 (Tue, 28 Jan 2025) EllapsedTime: 103.3 seconds RetCode: 0 Status: OK PackageFile: Rsubread_2.20.0.zip PackageFileSize: 13.04 MiB