Package: Rsubread Version: 2.19.0 Command: rm -rf Rsubread.buildbin-libdir && mkdir Rsubread.buildbin-libdir && F:\biocbuild\bbs-3.20-bioc\R\bin\R.exe CMD INSTALL --build --library=Rsubread.buildbin-libdir Rsubread_2.19.0.tar.gz StartedAt: 2024-06-10 14:54:32 -0400 (Mon, 10 Jun 2024) EndedAt: 2024-06-10 14:57:32 -0400 (Mon, 10 Jun 2024) EllapsedTime: 179.9 seconds RetCode: 0 Status: OK PackageFile: Rsubread_2.19.0.zip PackageFileSize: 13.04 MiB