Package: Rsubread Version: 2.20.0 Command: /home/biocbuild/bbs-3.20-bioc/R/bin/R CMD build --keep-empty-dirs --no-resave-data --md5 Rsubread StartedAt: 2025-02-03 19:05:15 -0500 (Mon, 03 Feb 2025) EndedAt: 2025-02-03 19:13:33 -0500 (Mon, 03 Feb 2025) EllapsedTime: 498.7 seconds RetCode: 0 Status: OK PackageFile: Rsubread_2.20.0.tar.gz PackageFileSize: 12.94 MiB