Package: Rsubread Version: 2.20.0 Command: /Library/Frameworks/R.framework/Resources/bin/R CMD build --keep-empty-dirs --no-resave-data Rsubread StartedAt: 2025-02-03 21:52:12 -0500 (Mon, 03 Feb 2025) EndedAt: 2025-02-03 22:15:20 -0500 (Mon, 03 Feb 2025) EllapsedTime: 1388.3 seconds RetCode: 0 Status: OK PackageFile: Rsubread_2.20.0.tar.gz PackageFileSize: 12.92 MiB