Package: Rsubread Version: 2.20.0 Command: /Library/Frameworks/R.framework/Resources/bin/R CMD build --keep-empty-dirs --no-resave-data Rsubread StartedAt: 2025-04-01 06:37:08 -0400 (Tue, 01 Apr 2025) EndedAt: 2025-04-01 06:51:23 -0400 (Tue, 01 Apr 2025) EllapsedTime: 855.2 seconds RetCode: 0 Status: OK PackageFile: Rsubread_2.20.0.tar.gz PackageFileSize: 12.92 MiB