Package: Rsamtools Version: 2.22.0 Command: F:\biocbuild\bbs-3.20-bioc\R\bin\R.exe CMD INSTALL Rsamtools StartedAt: 2025-02-03 15:53:14 -0500 (Mon, 03 Feb 2025) EndedAt: 2025-02-03 15:55:35 -0500 (Mon, 03 Feb 2025) EllapsedTime: 141.3 seconds RetCode: 0 Status: OK