Package: Rsamtools Version: 2.22.0 Command: F:\biocbuild\bbs-3.20-bioc\R\bin\R.exe CMD check --no-multiarch --install=check:Rsamtools.install-out.txt --library=F:\biocbuild\bbs-3.20-bioc\R\library --no-vignettes --timings Rsamtools_2.22.0.tar.gz StartedAt: 2025-01-28 05:26:45 -0500 (Tue, 28 Jan 2025) EndedAt: 2025-01-28 05:31:50 -0500 (Tue, 28 Jan 2025) EllapsedTime: 305.2 seconds RetCode: 0 Status: WARNINGS CheckDir: Rsamtools.Rcheck Warnings: 1