Package: Rsamtools Version: 2.22.0 Command: rm -rf Rsamtools.buildbin-libdir && mkdir Rsamtools.buildbin-libdir && /Users/biocbuild/BBS/utils/build-universal.sh Rsamtools_2.22.0.tar.gz /Library/Frameworks/R.framework/Resources/bin/R Rsamtools.buildbin-libdir StartedAt: 2025-01-28 14:26:07 -0500 (Tue, 28 Jan 2025) EndedAt: 2025-01-28 14:28:05 -0500 (Tue, 28 Jan 2025) EllapsedTime: 118.3 seconds RetCode: 0 Status: OK PackageFile: Rsamtools_2.22.0.tgz PackageFileSize: 4.075 MiB