Package: Rsamtools Version: 2.22.0 Command: /Library/Frameworks/R.framework/Resources/bin/R CMD check --install=check:Rsamtools.install-out.txt --library=/Library/Frameworks/R.framework/Resources/library --no-vignettes --timings Rsamtools_2.22.0.tar.gz StartedAt: 2025-04-02 06:52:43 -0400 (Wed, 02 Apr 2025) EndedAt: 2025-04-02 06:55:34 -0400 (Wed, 02 Apr 2025) EllapsedTime: 170.7 seconds RetCode: 0 Status: WARNINGS CheckDir: Rsamtools.Rcheck Warnings: 2