Package: Rqc Version: 1.40.0 Command: /home/biocbuild/R/R/bin/R CMD INSTALL Rqc StartedAt: 2025-01-30 20:41:42 -0000 (Thu, 30 Jan 2025) EndedAt: 2025-01-30 20:42:48 -0000 (Thu, 30 Jan 2025) EllapsedTime: 66.0 seconds RetCode: 0 Status: OK