Package: Rqc Version: 1.40.0 Command: /home/biocbuild/R/R/bin/R CMD check --install=check:Rqc.install-out.txt --library=/home/biocbuild/R/R/site-library --no-vignettes --timings Rqc_1.40.0.tar.gz StartedAt: 2025-01-31 09:54:30 -0000 (Fri, 31 Jan 2025) EndedAt: 2025-01-31 10:01:47 -0000 (Fri, 31 Jan 2025) EllapsedTime: 436.6 seconds RetCode: 0 Status: OK CheckDir: Rqc.Rcheck Warnings: 0