Package: Rqc Version: 1.40.0 Command: /home/biocbuild/R/R/bin/R CMD build --keep-empty-dirs --no-resave-data Rqc StartedAt: 2025-01-31 02:18:22 -0000 (Fri, 31 Jan 2025) EndedAt: 2025-01-31 02:20:17 -0000 (Fri, 31 Jan 2025) EllapsedTime: 114.2 seconds RetCode: 0 Status: OK PackageFile: Rqc_1.40.0.tar.gz PackageFileSize: 813.3 KiB