Package: RolDE Version: 1.10.0 Command: F:\biocbuild\bbs-3.20-bioc\R\bin\R.exe CMD INSTALL RolDE StartedAt: 2025-01-27 15:53:09 -0500 (Mon, 27 Jan 2025) EndedAt: 2025-01-27 15:53:38 -0500 (Mon, 27 Jan 2025) EllapsedTime: 28.4 seconds RetCode: 0 Status: OK