Package: RolDE Version: 1.10.0 Command: /Library/Frameworks/R.framework/Resources/bin/R CMD INSTALL RolDE StartedAt: 2025-01-27 15:52:16 -0500 (Mon, 27 Jan 2025) EndedAt: 2025-01-27 15:52:42 -0500 (Mon, 27 Jan 2025) EllapsedTime: 25.3 seconds RetCode: 0 Status: OK