Package: Rnits Version: 1.40.0 Command: F:\biocbuild\bbs-3.20-bioc\R\bin\R.exe CMD check --no-multiarch --install=check:Rnits.install-out.txt --library=F:\biocbuild\bbs-3.20-bioc\R\library --no-vignettes --timings Rnits_1.40.0.tar.gz StartedAt: 2025-04-01 05:21:58 -0400 (Tue, 01 Apr 2025) EndedAt: 2025-04-01 05:23:16 -0400 (Tue, 01 Apr 2025) EllapsedTime: 77.9 seconds RetCode: 0 Status: WARNINGS CheckDir: Rnits.Rcheck Warnings: 1