Package: Rnits Version: 1.40.0 Command: /Library/Frameworks/R.framework/Resources/bin/R CMD INSTALL Rnits StartedAt: 2025-01-27 15:28:27 -0500 (Mon, 27 Jan 2025) EndedAt: 2025-01-27 15:28:49 -0500 (Mon, 27 Jan 2025) EllapsedTime: 21.7 seconds RetCode: 0 Status: OK