Package: RnaSeqSampleSize Version: 2.16.0 Command: rm -rf RnaSeqSampleSize.buildbin-libdir && mkdir RnaSeqSampleSize.buildbin-libdir && F:\biocbuild\bbs-3.20-bioc\R\bin\R.exe CMD INSTALL --build --library=RnaSeqSampleSize.buildbin-libdir RnaSeqSampleSize_2.16.0.tar.gz StartedAt: 2025-01-31 09:28:30 -0500 (Fri, 31 Jan 2025) EndedAt: 2025-01-31 09:29:46 -0500 (Fri, 31 Jan 2025) EllapsedTime: 76.1 seconds RetCode: 0 Status: OK PackageFile: RnaSeqSampleSize_2.16.0.zip PackageFileSize: 644.1 KiB