Package: RnaSeqSampleSize Version: 2.16.0 Command: /Library/Frameworks/R.framework/Resources/bin/R CMD build --keep-empty-dirs --no-resave-data RnaSeqSampleSize StartedAt: 2025-03-31 21:30:46 -0400 (Mon, 31 Mar 2025) EndedAt: 2025-03-31 21:34:56 -0400 (Mon, 31 Mar 2025) EllapsedTime: 249.4 seconds RetCode: 0 Status: OK PackageFile: RnaSeqSampleSize_2.16.0.tar.gz PackageFileSize: 234.7 KiB