Package: RnaSeqSampleSize Version: 2.16.0 Command: rm -rf RnaSeqSampleSize.buildbin-libdir && mkdir RnaSeqSampleSize.buildbin-libdir && /Users/biocbuild/BBS/utils/build-universal.sh RnaSeqSampleSize_2.16.0.tar.gz /Library/Frameworks/R.framework/Resources/bin/R RnaSeqSampleSize.buildbin-libdir StartedAt: 2025-04-01 12:37:37 -0400 (Tue, 01 Apr 2025) EndedAt: 2025-04-01 12:39:29 -0400 (Tue, 01 Apr 2025) EllapsedTime: 112.4 seconds RetCode: 0 Status: OK PackageFile: RnaSeqSampleSize_2.16.0.tgz PackageFileSize: 330.2 KiB