Package: RnBeads Version: 2.24.0 Command: /home/biocbuild/R/R/bin/R CMD check --install=check:RnBeads.install-out.txt --library=/home/biocbuild/R/R/site-library --no-vignettes --timings RnBeads_2.24.0.tar.gz StartedAt: 2025-02-11 09:52:57 -0000 (Tue, 11 Feb 2025) EndedAt: 2025-02-11 10:05:06 -0000 (Tue, 11 Feb 2025) EllapsedTime: 728.3 seconds RetCode: 0 Status: OK CheckDir: RnBeads.Rcheck Warnings: 0