Package: RnBeads Version: 2.24.0 Command: rm -rf RnBeads.buildbin-libdir && mkdir RnBeads.buildbin-libdir && /Users/biocbuild/BBS/utils/build-universal.sh RnBeads_2.24.0.tar.gz /Library/Frameworks/R.framework/Resources/bin/R RnBeads.buildbin-libdir StartedAt: 2025-04-01 12:37:39 -0400 (Tue, 01 Apr 2025) EndedAt: 2025-04-01 12:40:52 -0400 (Tue, 01 Apr 2025) EllapsedTime: 193.3 seconds RetCode: 0 Status: OK PackageFile: RnBeads_2.24.0.tgz PackageFileSize: 7.919 MiB