Package: RnBeads Version: 2.24.0 Command: /Library/Frameworks/R.framework/Resources/bin/R CMD INSTALL RnBeads StartedAt: 2025-03-31 18:00:45 -0400 (Mon, 31 Mar 2025) EndedAt: 2025-03-31 18:02:15 -0400 (Mon, 31 Mar 2025) EllapsedTime: 90.3 seconds RetCode: 0 Status: OK