Package: Rmmquant Version: 1.24.0 Command: chmod a+r Rmmquant -R && F:\biocbuild\bbs-3.20-bioc\R\bin\R.exe CMD build --keep-empty-dirs --no-resave-data Rmmquant StartedAt: 2025-01-30 21:26:42 -0500 (Thu, 30 Jan 2025) EndedAt: 2025-01-30 21:28:34 -0500 (Thu, 30 Jan 2025) EllapsedTime: 112.0 seconds RetCode: 0 Status: OK PackageFile: Rmmquant_1.24.0.tar.gz PackageFileSize: 45.18 KiB