Package: Rmagpie Version: 1.62.0 Command: /home/biocbuild/bbs-3.20-bioc/R/bin/R CMD INSTALL Rmagpie StartedAt: 2025-02-03 15:57:08 -0500 (Mon, 03 Feb 2025) EndedAt: 2025-02-03 15:57:22 -0500 (Mon, 03 Feb 2025) EllapsedTime: 13.1 seconds RetCode: 0 Status: OK