Package: Rmagpie Version: 1.62.0 Command: /home/biocbuild/R/R/bin/R CMD check --install=check:Rmagpie.install-out.txt --library=/home/biocbuild/R/R/site-library --no-vignettes --timings Rmagpie_1.62.0.tar.gz StartedAt: 2024-11-20 11:44:29 -0000 (Wed, 20 Nov 2024) EndedAt: 2024-11-20 11:46:12 -0000 (Wed, 20 Nov 2024) EllapsedTime: 102.2 seconds RetCode: 0 Status: OK CheckDir: Rmagpie.Rcheck Warnings: 0