Package: Rmagpie Version: 1.62.0 Command: /Library/Frameworks/R.framework/Resources/bin/R CMD INSTALL Rmagpie StartedAt: 2025-02-03 17:33:43 -0500 (Mon, 03 Feb 2025) EndedAt: 2025-02-03 17:33:57 -0500 (Mon, 03 Feb 2025) EllapsedTime: 13.3 seconds RetCode: 0 Status: OK