Package: Rmagpie Version: 1.62.0 Command: /Library/Frameworks/R.framework/Resources/bin/R CMD build --keep-empty-dirs --no-resave-data Rmagpie StartedAt: 2025-02-04 06:46:43 -0500 (Tue, 04 Feb 2025) EndedAt: 2025-02-04 06:47:27 -0500 (Tue, 04 Feb 2025) EllapsedTime: 43.9 seconds RetCode: 0 Status: OK PackageFile: Rmagpie_1.62.0.tar.gz PackageFileSize: 464.8 KiB