Package: Rmagpie Version: 1.62.0 Command: rm -rf Rmagpie.buildbin-libdir && mkdir Rmagpie.buildbin-libdir && /Users/biocbuild/BBS/utils/build-universal.sh Rmagpie_1.62.0.tar.gz /Library/Frameworks/R.framework/Resources/bin/R Rmagpie.buildbin-libdir StartedAt: 2025-02-05 17:28:59 -0500 (Wed, 05 Feb 2025) EndedAt: 2025-02-05 17:29:14 -0500 (Wed, 05 Feb 2025) EllapsedTime: 14.8 seconds RetCode: 0 Status: OK PackageFile: Rmagpie_1.62.0.tgz PackageFileSize: 860.1 KiB