Package: Risa Version: 1.48.1 Command: F:\biocbuild\bbs-3.20-bioc\R\bin\R.exe CMD check --no-multiarch --install=check:Risa.install-out.txt --library=F:\biocbuild\bbs-3.20-bioc\R\library --no-vignettes --timings Risa_1.48.1.tar.gz StartedAt: 2025-01-28 05:15:53 -0500 (Tue, 28 Jan 2025) EndedAt: 2025-01-28 05:21:44 -0500 (Tue, 28 Jan 2025) EllapsedTime: 350.7 seconds RetCode: 1 Status: ERROR CheckDir: Risa.Rcheck Warnings: NA