Package: Risa Version: 1.48.1 Command: chmod a+r Risa -R && F:\biocbuild\bbs-3.20-bioc\R\bin\R.exe CMD build --keep-empty-dirs --no-resave-data Risa StartedAt: 2025-01-27 21:30:56 -0500 (Mon, 27 Jan 2025) EndedAt: 2025-01-27 21:33:06 -0500 (Mon, 27 Jan 2025) EllapsedTime: 130.6 seconds RetCode: 0 Status: OK PackageFile: Risa_1.48.1.tar.gz PackageFileSize: 2.104 MiB