Package: RiboProfiling Version: 1.36.0 Command: /home/biocbuild/R/R/bin/R CMD INSTALL RiboProfiling StartedAt: 2025-01-30 20:45:07 -0000 (Thu, 30 Jan 2025) EndedAt: 2025-01-30 20:46:07 -0000 (Thu, 30 Jan 2025) EllapsedTime: 60.1 seconds RetCode: 0 Status: OK