Package: RiboDiPA Version: 1.14.0 Command: rm -rf RiboDiPA.buildbin-libdir && mkdir RiboDiPA.buildbin-libdir && /Users/biocbuild/BBS/utils/build-universal.sh RiboDiPA_1.14.0.tar.gz /Library/Frameworks/R.framework/Resources/bin/R RiboDiPA.buildbin-libdir StartedAt: 2025-02-05 17:26:44 -0500 (Wed, 05 Feb 2025) EndedAt: 2025-02-05 17:27:49 -0500 (Wed, 05 Feb 2025) EllapsedTime: 64.4 seconds RetCode: 0 Status: OK PackageFile: RiboDiPA_1.14.0.tgz PackageFileSize: 1.622 MiB