Package: RiboCrypt Version: 1.12.0 Command: /home/biocbuild/R/R/bin/R CMD INSTALL RiboCrypt StartedAt: 2025-02-10 21:09:23 -0000 (Mon, 10 Feb 2025) EndedAt: 2025-02-10 21:10:20 -0000 (Mon, 10 Feb 2025) EllapsedTime: 56.4 seconds RetCode: 0 Status: OK